BEGIN:VCALENDAR
VERSION:2.0
PRODID:-//148.72.88.30//NONSGML kigkonsult.se iCalcreator 2.26.9//
CALSCALE:GREGORIAN
METHOD:PUBLISH
X-WR-CALNAME:Gem Camera Club
X-WR-CALDESC:
X-FROM-URL:https://gemcameraclub.com.au
X-WR-TIMEZONE:Australia/Perth
BEGIN:VTIMEZONE
TZID:Australia/Perth
X-LIC-LOCATION:Australia/Perth
BEGIN:STANDARD
DTSTART:20090329T030000
TZOFFSETFROM:+0900
TZOFFSETTO:+0800
TZNAME:AWST
END:STANDARD
END:VTIMEZONE
BEGIN:VEVENT
UID:ai1ec-886@gemcameraclub.com.au
DTSTAMP:20210224T032645Z
CATEGORIES;LANGUAGE=en-US:Tutorial
CONTACT:Angela Schmeiss\; president@gemcamera.club
DESCRIPTION:Guest speaker Barry Richards from WAPJA is doing an interactive
  presentation on what judges look for when judging for clubs. This will be
  a very informative session\, where you are sure to learn tips on how to c
 reate winning images.
DTSTART;TZID=Australia/Perth:20190710T190000
DTEND;TZID=Australia/Perth:20190710T210000
LOCATION:Location Gooseberry Hill Multi Use Facility  @ 42 Ledger Road\, Go
 oseberry Hill
SEQUENCE:0
SUMMARY:What the judge wants
URL:https://gemcameraclub.com.au/event/what-the-judge-wants/
X-COST-TYPE:free
X-ALT-DESC;FMTTYPE=text/html:<!DOCTYPE HTML PUBLIC '-//W3C//DTD HTML 3.2//E
 N'>\\n<HTML>\\n<HEAD>\\n<TITLE></TITLE>\\n</HEAD>\\n<BODY><p>Guest speaker
  Barry Richards from WAPJA is doing an interactive presentation on what ju
 dges look for when judging for clubs. This will be a very informative sess
 ion\, where you are sure to learn tips on how to create winning images.</p
 >\n</BODY></HTML>
END:VEVENT
END:VCALENDAR
