BEGIN:VCALENDAR
VERSION:2.0
PRODID:-//148.72.88.30//NONSGML kigkonsult.se iCalcreator 2.26.9//
CALSCALE:GREGORIAN
METHOD:PUBLISH
X-WR-CALNAME:Gem Camera Club
X-WR-CALDESC:
X-FROM-URL:https://gemcameraclub.com.au
X-WR-TIMEZONE:Australia/Perth
BEGIN:VTIMEZONE
TZID:Australia/Perth
X-LIC-LOCATION:Australia/Perth
BEGIN:STANDARD
DTSTART:20090329T030000
TZOFFSETFROM:+0900
TZOFFSETTO:+0800
TZNAME:AWST
END:STANDARD
END:VTIMEZONE
BEGIN:VEVENT
UID:ai1ec-656@gemcameraclub.com.au
DTSTAMP:20210224T032527Z
CATEGORIES;LANGUAGE=en-US:Tutorial
CONTACT:
DESCRIPTION:Listen to Nathan talk about his photography journey.\nLocal pho
 tographer “Nature by Nathan” will be giving an onsite into his photography
 \, including night photography and landscapes. Check out his profile on so
 cial media
DTSTART;TZID=Australia/Perth:20191009T190000
DTEND;TZID=Australia/Perth:20191009T210000
LOCATION:Gooseberry Hill Multi Use Facility @ 42 Ledger Road Gooseberry Hil
 l
SEQUENCE:0
SUMMARY:An Evening with Nathan Dobbie
URL:https://gemcameraclub.com.au/event/monthly-workshop-advanced-camera-tec
 hniques/
X-COST-TYPE:free
X-ALT-DESC;FMTTYPE=text/html:<!DOCTYPE HTML PUBLIC '-//W3C//DTD HTML 3.2//E
 N'>\\n<HTML>\\n<HEAD>\\n<TITLE></TITLE>\\n</HEAD>\\n<BODY><p>Listen to Nat
 han talk about his photography journey.<br />\nLocal photographer “Nature 
 by Nathan” will be giving an onsite into his photography\, including night
  photography and landscapes. Check out his profile on social media</p>\n</
 BODY></HTML>
END:VEVENT
END:VCALENDAR
